BEGIN:VCALENDAR
VERSION:2.0
PRODID:-//Kammerchor der Humboldt-Universität zu Berlin - ECPv6.15.18//NONSGML v1.0//EN
CALSCALE:GREGORIAN
METHOD:PUBLISH
X-ORIGINAL-URL:https://kammerchor-hu-berlin.de
X-WR-CALDESC:Veranstaltungen für Kammerchor der Humboldt-Universität zu Berlin
REFRESH-INTERVAL;VALUE=DURATION:PT1H
X-Robots-Tag:noindex
X-PUBLISHED-TTL:PT1H
BEGIN:VTIMEZONE
TZID:Europe/Berlin
BEGIN:DAYLIGHT
TZOFFSETFROM:+0100
TZOFFSETTO:+0200
TZNAME:CEST
DTSTART:20240331T010000
END:DAYLIGHT
BEGIN:STANDARD
TZOFFSETFROM:+0200
TZOFFSETTO:+0100
TZNAME:CET
DTSTART:20241027T010000
END:STANDARD
BEGIN:DAYLIGHT
TZOFFSETFROM:+0100
TZOFFSETTO:+0200
TZNAME:CEST
DTSTART:20250330T010000
END:DAYLIGHT
BEGIN:STANDARD
TZOFFSETFROM:+0200
TZOFFSETTO:+0100
TZNAME:CET
DTSTART:20251026T010000
END:STANDARD
BEGIN:DAYLIGHT
TZOFFSETFROM:+0100
TZOFFSETTO:+0200
TZNAME:CEST
DTSTART:20260329T010000
END:DAYLIGHT
BEGIN:STANDARD
TZOFFSETFROM:+0200
TZOFFSETTO:+0100
TZNAME:CET
DTSTART:20261025T010000
END:STANDARD
END:VTIMEZONE
BEGIN:VEVENT
DTSTART;TZID=Europe/Berlin:20251013T160000
DTEND;TZID=Europe/Berlin:20251013T180000
DTSTAMP:20260421T002417
CREATED:20250814T105212Z
LAST-MODIFIED:20250814T221641Z
UID:10000243-1760371200-1760378400@kammerchor-hu-berlin.de
SUMMARY:Immatrikulationsfeier
DESCRIPTION:Immatrikulationsfeier mit Übetragung in den Schlüterhof und ins Netz
URL:https://kammerchor-hu-berlin.de/event/immatrikulationsfeier/
LOCATION:Humboldt Forum\, Schlossplatz\, Berlin\, 10178\, Germany
CATEGORIES:Auftritt
END:VEVENT
BEGIN:VEVENT
DTSTART;TZID=Europe/Berlin:20251011T103000
DTEND;TZID=Europe/Berlin:20251011T123000
DTSTAMP:20260421T002417
CREATED:20250814T104414Z
LAST-MODIFIED:20250814T104414Z
UID:10000242-1760178600-1760185800@kammerchor-hu-berlin.de
SUMMARY:Probe für Immatrikulationsfeier
DESCRIPTION:
URL:https://kammerchor-hu-berlin.de/event/probe-fuer-immatrikulationsfeier/
CATEGORIES:Probe,Wochenende
END:VEVENT
BEGIN:VEVENT
DTSTART;TZID=Europe/Berlin:20251006T193000
DTEND;TZID=Europe/Berlin:20251006T220000
DTSTAMP:20260421T002417
CREATED:20250605T125816Z
LAST-MODIFIED:20260329T174131Z
UID:10000247-1759779000-1759788000@kammerchor-hu-berlin.de
SUMMARY:Probe
DESCRIPTION:
URL:https://kammerchor-hu-berlin.de/event/probe-39/2025-10-06/
LOCATION:Seminargebäude am Hegelplatz\, Dorotheenstr. 24\, Berlin\, 10117\, Deutschland
CATEGORIES:Probe,Wöchentlich
END:VEVENT
BEGIN:VEVENT
DTSTART;TZID=Europe/Berlin:20250929T193000
DTEND;TZID=Europe/Berlin:20250929T220000
DTSTAMP:20260421T002417
CREATED:20250605T125816Z
LAST-MODIFIED:20260329T174131Z
UID:10000246-1759174200-1759183200@kammerchor-hu-berlin.de
SUMMARY:Probe
DESCRIPTION:
URL:https://kammerchor-hu-berlin.de/event/probe-39/2025-09-29/
LOCATION:Seminargebäude am Hegelplatz\, Dorotheenstr. 24\, Berlin\, 10117\, Deutschland
CATEGORIES:Probe,Wöchentlich
END:VEVENT
BEGIN:VEVENT
DTSTART;TZID=Europe/Berlin:20250705T193000
DTEND;TZID=Europe/Berlin:20250705T210000
DTSTAMP:20260421T002417
CREATED:20250207T092259Z
LAST-MODIFIED:20250614T194909Z
UID:10000093-1751743800-1751749200@kammerchor-hu-berlin.de
SUMMARY:Konzert »Here«
DESCRIPTION:Konzert Here\nWer bist Du? Wer sind wir? Was verbindet uns? \nIn den Stücken von Joshua Rist\, Ola Gjeilo\, Ivo Antognini\, Sven-Eric Johanson\, Johannes Brahms und Songs von Emeli Sandé und Billy Joel werden diese Frage poetisch gestellt\, auch an sich selbst. Der Kammerchor der Humboldt-Universität zu Berlin\, unter der Leitung von Rainer Ahrens\, singt ein Programm\, in dem sich zudem Alte und Neue Musik zwanglos zusammenfügen.
URL:https://kammerchor-hu-berlin.de/event/konzert-4/
LOCATION:St. Matthäus-Kirche\, Matthäikirchplatz 1\, Berlin\, 10785\, Deutschland
CATEGORIES:Auftritt,Konzert
ATTACH;FMTTYPE=image/webp:https://kammerchor-hu-berlin.de/wp-content/uploads/2025/02/Plakat-Here-web.webp
END:VEVENT
BEGIN:VEVENT
DTSTART;TZID=Europe/Berlin:20250630T200000
DTEND;TZID=Europe/Berlin:20250630T220000
DTSTAMP:20260421T002417
CREATED:20241101T001522Z
LAST-MODIFIED:20250207T085236Z
UID:10000088-1751313600-1751320800@kammerchor-hu-berlin.de
SUMMARY:Probe
DESCRIPTION:
URL:https://kammerchor-hu-berlin.de/event/probe-37/2025-06-30/
LOCATION:Seminargebäude am Hegelplatz\, Dorotheenstr. 24\, Berlin\, 10117\, Deutschland
CATEGORIES:Probe,Wöchentlich
END:VEVENT
BEGIN:VEVENT
DTSTART;TZID=Europe/Berlin:20250623T200000
DTEND;TZID=Europe/Berlin:20250623T220000
DTSTAMP:20260421T002417
CREATED:20241101T001522Z
LAST-MODIFIED:20250207T085236Z
UID:10000087-1750708800-1750716000@kammerchor-hu-berlin.de
SUMMARY:Probe
DESCRIPTION:
URL:https://kammerchor-hu-berlin.de/event/probe-37/2025-06-23/
LOCATION:Seminargebäude am Hegelplatz\, Dorotheenstr. 24\, Berlin\, 10117\, Deutschland
CATEGORIES:Probe,Wöchentlich
END:VEVENT
BEGIN:VEVENT
DTSTART;TZID=Europe/Berlin:20250616T200000
DTEND;TZID=Europe/Berlin:20250616T220000
DTSTAMP:20260421T002417
CREATED:20241101T001522Z
LAST-MODIFIED:20250207T085236Z
UID:10000086-1750104000-1750111200@kammerchor-hu-berlin.de
SUMMARY:Probe
DESCRIPTION:
URL:https://kammerchor-hu-berlin.de/event/probe-37/2025-06-16/
LOCATION:Seminargebäude am Hegelplatz\, Dorotheenstr. 24\, Berlin\, 10117\, Deutschland
CATEGORIES:Probe,Wöchentlich
END:VEVENT
BEGIN:VEVENT
DTSTART;TZID=Europe/Berlin:20250613T180000
DTEND;TZID=Europe/Berlin:20250615T123000
DTSTAMP:20260421T002417
CREATED:20250524T134734Z
LAST-MODIFIED:20250524T134734Z
UID:10000094-1749837600-1749990600@kammerchor-hu-berlin.de
SUMMARY:Probenwochenende
DESCRIPTION:Probenwochenende in der Musikakademie Rheinsberg
URL:https://kammerchor-hu-berlin.de/event/probenwochenende-2/
LOCATION:Musikakademie Rheinsberg\, Markt 12\, Rheinsberg\, Brandenburg\, 16831\, Germany
CATEGORIES:Probe,Wochenende
ATTACH;FMTTYPE=image/jpeg:https://kammerchor-hu-berlin.de/wp-content/uploads/2025/05/IMG_2895-EDIT.jpeg
END:VEVENT
BEGIN:VEVENT
DTSTART;TZID=Europe/Berlin:20250610T200000
DTEND;TZID=Europe/Berlin:20250610T220000
DTSTAMP:20260421T002417
CREATED:20250207T085335Z
LAST-MODIFIED:20250207T085335Z
UID:10000091-1749585600-1749592800@kammerchor-hu-berlin.de
SUMMARY:Probe
DESCRIPTION:
URL:https://kammerchor-hu-berlin.de/event/probe-38/
LOCATION:Seminargebäude am Hegelplatz\, Dorotheenstr. 24\, Berlin\, 10117\, Deutschland
CATEGORIES:Probe,Wöchentlich
END:VEVENT
BEGIN:VEVENT
DTSTART;TZID=Europe/Berlin:20250602T200000
DTEND;TZID=Europe/Berlin:20250602T220000
DTSTAMP:20260421T002417
CREATED:20241101T001522Z
LAST-MODIFIED:20250207T085236Z
UID:10000084-1748894400-1748901600@kammerchor-hu-berlin.de
SUMMARY:Probe
DESCRIPTION:
URL:https://kammerchor-hu-berlin.de/event/probe-37/2025-06-02/
LOCATION:Seminargebäude am Hegelplatz\, Dorotheenstr. 24\, Berlin\, 10117\, Deutschland
CATEGORIES:Probe,Wöchentlich
END:VEVENT
BEGIN:VEVENT
DTSTART;TZID=Europe/Berlin:20250526T200000
DTEND;TZID=Europe/Berlin:20250526T220000
DTSTAMP:20260421T002417
CREATED:20241101T001522Z
LAST-MODIFIED:20250207T085236Z
UID:10000083-1748289600-1748296800@kammerchor-hu-berlin.de
SUMMARY:Probe
DESCRIPTION:
URL:https://kammerchor-hu-berlin.de/event/probe-37/2025-05-26/
LOCATION:Seminargebäude am Hegelplatz\, Dorotheenstr. 24\, Berlin\, 10117\, Deutschland
CATEGORIES:Probe,Wöchentlich
END:VEVENT
BEGIN:VEVENT
DTSTART;TZID=Europe/Berlin:20250519T200000
DTEND;TZID=Europe/Berlin:20250519T220000
DTSTAMP:20260421T002417
CREATED:20241101T001522Z
LAST-MODIFIED:20250207T085236Z
UID:10000082-1747684800-1747692000@kammerchor-hu-berlin.de
SUMMARY:Probe
DESCRIPTION:
URL:https://kammerchor-hu-berlin.de/event/probe-37/2025-05-19/
LOCATION:Seminargebäude am Hegelplatz\, Dorotheenstr. 24\, Berlin\, 10117\, Deutschland
CATEGORIES:Probe,Wöchentlich
END:VEVENT
BEGIN:VEVENT
DTSTART;TZID=Europe/Berlin:20250512T200000
DTEND;TZID=Europe/Berlin:20250512T220000
DTSTAMP:20260421T002417
CREATED:20241101T001522Z
LAST-MODIFIED:20250207T085236Z
UID:10000081-1747080000-1747087200@kammerchor-hu-berlin.de
SUMMARY:Probe
DESCRIPTION:
URL:https://kammerchor-hu-berlin.de/event/probe-37/2025-05-12/
LOCATION:Seminargebäude am Hegelplatz\, Dorotheenstr. 24\, Berlin\, 10117\, Deutschland
CATEGORIES:Probe,Wöchentlich
END:VEVENT
BEGIN:VEVENT
DTSTART;TZID=Europe/Berlin:20250505T200000
DTEND;TZID=Europe/Berlin:20250505T220000
DTSTAMP:20260421T002417
CREATED:20241101T001522Z
LAST-MODIFIED:20250207T085236Z
UID:10000080-1746475200-1746482400@kammerchor-hu-berlin.de
SUMMARY:Probe
DESCRIPTION:
URL:https://kammerchor-hu-berlin.de/event/probe-37/2025-05-05/
LOCATION:Seminargebäude am Hegelplatz\, Dorotheenstr. 24\, Berlin\, 10117\, Deutschland
CATEGORIES:Probe,Wöchentlich
END:VEVENT
BEGIN:VEVENT
DTSTART;TZID=Europe/Berlin:20250428T200000
DTEND;TZID=Europe/Berlin:20250428T220000
DTSTAMP:20260421T002417
CREATED:20241101T001522Z
LAST-MODIFIED:20250207T085236Z
UID:10000079-1745870400-1745877600@kammerchor-hu-berlin.de
SUMMARY:Probe
DESCRIPTION:
URL:https://kammerchor-hu-berlin.de/event/probe-37/2025-04-28/
LOCATION:Seminargebäude am Hegelplatz\, Dorotheenstr. 24\, Berlin\, 10117\, Deutschland
CATEGORIES:Probe,Wöchentlich
END:VEVENT
BEGIN:VEVENT
DTSTART;TZID=Europe/Berlin:20250414T200000
DTEND;TZID=Europe/Berlin:20250414T220000
DTSTAMP:20260421T002417
CREATED:20241101T001522Z
LAST-MODIFIED:20250207T085236Z
UID:10000077-1744660800-1744668000@kammerchor-hu-berlin.de
SUMMARY:Probe
DESCRIPTION:
URL:https://kammerchor-hu-berlin.de/event/probe-37/2025-04-14/
LOCATION:Seminargebäude am Hegelplatz\, Dorotheenstr. 24\, Berlin\, 10117\, Deutschland
CATEGORIES:Probe,Wöchentlich
END:VEVENT
BEGIN:VEVENT
DTSTART;TZID=Europe/Berlin:20250407T200000
DTEND;TZID=Europe/Berlin:20250407T220000
DTSTAMP:20260421T002417
CREATED:20241101T001522Z
LAST-MODIFIED:20250207T085236Z
UID:10000076-1744056000-1744063200@kammerchor-hu-berlin.de
SUMMARY:Probe
DESCRIPTION:
URL:https://kammerchor-hu-berlin.de/event/probe-37/2025-04-07/
LOCATION:Seminargebäude am Hegelplatz\, Dorotheenstr. 24\, Berlin\, 10117\, Deutschland
CATEGORIES:Probe,Wöchentlich
END:VEVENT
BEGIN:VEVENT
DTSTART;TZID=Europe/Berlin:20250331T200000
DTEND;TZID=Europe/Berlin:20250331T220000
DTSTAMP:20260421T002417
CREATED:20241101T001522Z
LAST-MODIFIED:20250207T085236Z
UID:10000075-1743451200-1743458400@kammerchor-hu-berlin.de
SUMMARY:Probe
DESCRIPTION:
URL:https://kammerchor-hu-berlin.de/event/probe-37/2025-03-31/
LOCATION:Seminargebäude am Hegelplatz\, Dorotheenstr. 24\, Berlin\, 10117\, Deutschland
CATEGORIES:Probe,Wöchentlich
END:VEVENT
BEGIN:VEVENT
DTSTART;TZID=Europe/Berlin:20250324T200000
DTEND;TZID=Europe/Berlin:20250324T220000
DTSTAMP:20260421T002417
CREATED:20241101T001522Z
LAST-MODIFIED:20250207T085236Z
UID:10000074-1742846400-1742853600@kammerchor-hu-berlin.de
SUMMARY:Probe
DESCRIPTION:
URL:https://kammerchor-hu-berlin.de/event/probe-37/2025-03-24/
LOCATION:Seminargebäude am Hegelplatz\, Dorotheenstr. 24\, Berlin\, 10117\, Deutschland
CATEGORIES:Probe,Wöchentlich
END:VEVENT
BEGIN:VEVENT
DTSTART;TZID=Europe/Berlin:20250317T200000
DTEND;TZID=Europe/Berlin:20250317T220000
DTSTAMP:20260421T002417
CREATED:20241101T001522Z
LAST-MODIFIED:20250207T085236Z
UID:10000073-1742241600-1742248800@kammerchor-hu-berlin.de
SUMMARY:Probe
DESCRIPTION:
URL:https://kammerchor-hu-berlin.de/event/probe-37/2025-03-17/
LOCATION:Seminargebäude am Hegelplatz\, Dorotheenstr. 24\, Berlin\, 10117\, Deutschland
CATEGORIES:Probe,Wöchentlich
END:VEVENT
BEGIN:VEVENT
DTSTART;TZID=Europe/Berlin:20250310T190000
DTEND;TZID=Europe/Berlin:20250310T210000
DTSTAMP:20260421T002417
CREATED:20250207T090338Z
LAST-MODIFIED:20250207T092118Z
UID:10000092-1741633200-1741640400@kammerchor-hu-berlin.de
SUMMARY:Konzert mit dem University of Alabama Choir
DESCRIPTION:
URL:https://kammerchor-hu-berlin.de/event/konzert-mit-dem-university-of-alabama-choir/
LOCATION:Kaiser-Wilhelm-Gedächtniskirche\, Breitscheidplatz\, Berlin\, 10789\, Germany
CATEGORIES:Auftritt,Konzert
ATTACH;FMTTYPE=image/jpeg:https://kammerchor-hu-berlin.de/wp-content/uploads/2025/02/Kaiser_Wilhelm_Memorial_Church_bp.jpeg
END:VEVENT
BEGIN:VEVENT
DTSTART;TZID=Europe/Berlin:20250303T200000
DTEND;TZID=Europe/Berlin:20250303T220000
DTSTAMP:20260421T002417
CREATED:20241101T001522Z
LAST-MODIFIED:20250207T085236Z
UID:10000071-1741032000-1741039200@kammerchor-hu-berlin.de
SUMMARY:Probe
DESCRIPTION:
URL:https://kammerchor-hu-berlin.de/event/probe-37/2025-03-03/
LOCATION:Seminargebäude am Hegelplatz\, Dorotheenstr. 24\, Berlin\, 10117\, Deutschland
CATEGORIES:Probe,Wöchentlich
END:VEVENT
BEGIN:VEVENT
DTSTART;TZID=Europe/Berlin:20250224T200000
DTEND;TZID=Europe/Berlin:20250224T220000
DTSTAMP:20260421T002417
CREATED:20241101T001522Z
LAST-MODIFIED:20250207T085236Z
UID:10000070-1740427200-1740434400@kammerchor-hu-berlin.de
SUMMARY:Probe
DESCRIPTION:
URL:https://kammerchor-hu-berlin.de/event/probe-37/2025-02-24/
LOCATION:Seminargebäude am Hegelplatz\, Dorotheenstr. 24\, Berlin\, 10117\, Deutschland
CATEGORIES:Probe,Wöchentlich
END:VEVENT
BEGIN:VEVENT
DTSTART;TZID=Europe/Berlin:20250217T200000
DTEND;TZID=Europe/Berlin:20250217T220000
DTSTAMP:20260421T002417
CREATED:20241101T001522Z
LAST-MODIFIED:20250207T085236Z
UID:10000069-1739822400-1739829600@kammerchor-hu-berlin.de
SUMMARY:Probe
DESCRIPTION:
URL:https://kammerchor-hu-berlin.de/event/probe-37/2025-02-17/
LOCATION:Seminargebäude am Hegelplatz\, Dorotheenstr. 24\, Berlin\, 10117\, Deutschland
CATEGORIES:Probe,Wöchentlich
END:VEVENT
BEGIN:VEVENT
DTSTART;TZID=Europe/Berlin:20250210T200000
DTEND;TZID=Europe/Berlin:20250210T220000
DTSTAMP:20260421T002417
CREATED:20241101T001522Z
LAST-MODIFIED:20250207T085236Z
UID:10000068-1739217600-1739224800@kammerchor-hu-berlin.de
SUMMARY:Probe
DESCRIPTION:
URL:https://kammerchor-hu-berlin.de/event/probe-37/2025-02-10/
LOCATION:Seminargebäude am Hegelplatz\, Dorotheenstr. 24\, Berlin\, 10117\, Deutschland
CATEGORIES:Probe,Wöchentlich
END:VEVENT
BEGIN:VEVENT
DTSTART;TZID=Europe/Berlin:20250203T200000
DTEND;TZID=Europe/Berlin:20250203T220000
DTSTAMP:20260421T002417
CREATED:20241101T001522Z
LAST-MODIFIED:20250207T085236Z
UID:10000067-1738612800-1738620000@kammerchor-hu-berlin.de
SUMMARY:Probe
DESCRIPTION:
URL:https://kammerchor-hu-berlin.de/event/probe-37/2025-02-03/
LOCATION:Seminargebäude am Hegelplatz\, Dorotheenstr. 24\, Berlin\, 10117\, Deutschland
CATEGORIES:Probe,Wöchentlich
END:VEVENT
BEGIN:VEVENT
DTSTART;TZID=Europe/Berlin:20250127T200000
DTEND;TZID=Europe/Berlin:20250127T220000
DTSTAMP:20260421T002417
CREATED:20241101T001522Z
LAST-MODIFIED:20250207T085236Z
UID:10000066-1738008000-1738015200@kammerchor-hu-berlin.de
SUMMARY:Probe
DESCRIPTION:
URL:https://kammerchor-hu-berlin.de/event/probe-37/2025-01-27/
LOCATION:Seminargebäude am Hegelplatz\, Dorotheenstr. 24\, Berlin\, 10117\, Deutschland
CATEGORIES:Probe,Wöchentlich
END:VEVENT
BEGIN:VEVENT
DTSTART;TZID=Europe/Berlin:20250120T200000
DTEND;TZID=Europe/Berlin:20250120T220000
DTSTAMP:20260421T002417
CREATED:20241101T001522Z
LAST-MODIFIED:20250207T085236Z
UID:10000065-1737403200-1737410400@kammerchor-hu-berlin.de
SUMMARY:Probe
DESCRIPTION:
URL:https://kammerchor-hu-berlin.de/event/probe-37/2025-01-20/
LOCATION:Seminargebäude am Hegelplatz\, Dorotheenstr. 24\, Berlin\, 10117\, Deutschland
CATEGORIES:Probe,Wöchentlich
END:VEVENT
BEGIN:VEVENT
DTSTART;TZID=Europe/Berlin:20250113T200000
DTEND;TZID=Europe/Berlin:20250113T220000
DTSTAMP:20260421T002417
CREATED:20241101T001522Z
LAST-MODIFIED:20250207T085236Z
UID:10000064-1736798400-1736805600@kammerchor-hu-berlin.de
SUMMARY:Probe
DESCRIPTION:
URL:https://kammerchor-hu-berlin.de/event/probe-37/2025-01-13/
LOCATION:Seminargebäude am Hegelplatz\, Dorotheenstr. 24\, Berlin\, 10117\, Deutschland
CATEGORIES:Probe,Wöchentlich
END:VEVENT
END:VCALENDAR