BEGIN:VCALENDAR
VERSION:2.0
PRODID:-//Kammerchor der Humboldt-Universität zu Berlin - ECPv6.15.18//NONSGML v1.0//EN
CALSCALE:GREGORIAN
METHOD:PUBLISH
X-ORIGINAL-URL:https://kammerchor-hu-berlin.de
X-WR-CALDESC:Veranstaltungen für Kammerchor der Humboldt-Universität zu Berlin
REFRESH-INTERVAL;VALUE=DURATION:PT1H
X-Robots-Tag:noindex
X-PUBLISHED-TTL:PT1H
BEGIN:VTIMEZONE
TZID:Europe/Berlin
BEGIN:DAYLIGHT
TZOFFSETFROM:+0100
TZOFFSETTO:+0200
TZNAME:CEST
DTSTART:20240331T010000
END:DAYLIGHT
BEGIN:STANDARD
TZOFFSETFROM:+0200
TZOFFSETTO:+0100
TZNAME:CET
DTSTART:20241027T010000
END:STANDARD
BEGIN:DAYLIGHT
TZOFFSETFROM:+0100
TZOFFSETTO:+0200
TZNAME:CEST
DTSTART:20250330T010000
END:DAYLIGHT
BEGIN:STANDARD
TZOFFSETFROM:+0200
TZOFFSETTO:+0100
TZNAME:CET
DTSTART:20251026T010000
END:STANDARD
BEGIN:DAYLIGHT
TZOFFSETFROM:+0100
TZOFFSETTO:+0200
TZNAME:CEST
DTSTART:20260329T010000
END:DAYLIGHT
BEGIN:STANDARD
TZOFFSETFROM:+0200
TZOFFSETTO:+0100
TZNAME:CET
DTSTART:20261025T010000
END:STANDARD
END:VTIMEZONE
BEGIN:VEVENT
DTSTART;TZID=Europe/Berlin:20250602T200000
DTEND;TZID=Europe/Berlin:20250602T220000
DTSTAMP:20260421T085938
CREATED:20241101T001522Z
LAST-MODIFIED:20250207T085236Z
UID:10000084-1748894400-1748901600@kammerchor-hu-berlin.de
SUMMARY:Probe
DESCRIPTION:
URL:https://kammerchor-hu-berlin.de/event/probe-37/2025-06-02/
LOCATION:Seminargebäude am Hegelplatz\, Dorotheenstr. 24\, Berlin\, 10117\, Deutschland
CATEGORIES:Probe,Wöchentlich
END:VEVENT
BEGIN:VEVENT
DTSTART;TZID=Europe/Berlin:20250610T200000
DTEND;TZID=Europe/Berlin:20250610T220000
DTSTAMP:20260421T085938
CREATED:20250207T085335Z
LAST-MODIFIED:20250207T085335Z
UID:10000091-1749585600-1749592800@kammerchor-hu-berlin.de
SUMMARY:Probe
DESCRIPTION:
URL:https://kammerchor-hu-berlin.de/event/probe-38/
LOCATION:Seminargebäude am Hegelplatz\, Dorotheenstr. 24\, Berlin\, 10117\, Deutschland
CATEGORIES:Probe,Wöchentlich
END:VEVENT
BEGIN:VEVENT
DTSTART;TZID=Europe/Berlin:20250613T180000
DTEND;TZID=Europe/Berlin:20250615T123000
DTSTAMP:20260421T085939
CREATED:20250524T134734Z
LAST-MODIFIED:20250524T134734Z
UID:10000094-1749837600-1749990600@kammerchor-hu-berlin.de
SUMMARY:Probenwochenende
DESCRIPTION:Probenwochenende in der Musikakademie Rheinsberg
URL:https://kammerchor-hu-berlin.de/event/probenwochenende-2/
LOCATION:Musikakademie Rheinsberg\, Markt 12\, Rheinsberg\, Brandenburg\, 16831\, Germany
CATEGORIES:Probe,Wochenende
ATTACH;FMTTYPE=image/jpeg:https://kammerchor-hu-berlin.de/wp-content/uploads/2025/05/IMG_2895-EDIT.jpeg
END:VEVENT
BEGIN:VEVENT
DTSTART;TZID=Europe/Berlin:20250616T200000
DTEND;TZID=Europe/Berlin:20250616T220000
DTSTAMP:20260421T085939
CREATED:20241101T001522Z
LAST-MODIFIED:20250207T085236Z
UID:10000086-1750104000-1750111200@kammerchor-hu-berlin.de
SUMMARY:Probe
DESCRIPTION:
URL:https://kammerchor-hu-berlin.de/event/probe-37/2025-06-16/
LOCATION:Seminargebäude am Hegelplatz\, Dorotheenstr. 24\, Berlin\, 10117\, Deutschland
CATEGORIES:Probe,Wöchentlich
END:VEVENT
BEGIN:VEVENT
DTSTART;TZID=Europe/Berlin:20250623T200000
DTEND;TZID=Europe/Berlin:20250623T220000
DTSTAMP:20260421T085939
CREATED:20241101T001522Z
LAST-MODIFIED:20250207T085236Z
UID:10000087-1750708800-1750716000@kammerchor-hu-berlin.de
SUMMARY:Probe
DESCRIPTION:
URL:https://kammerchor-hu-berlin.de/event/probe-37/2025-06-23/
LOCATION:Seminargebäude am Hegelplatz\, Dorotheenstr. 24\, Berlin\, 10117\, Deutschland
CATEGORIES:Probe,Wöchentlich
END:VEVENT
BEGIN:VEVENT
DTSTART;TZID=Europe/Berlin:20250630T200000
DTEND;TZID=Europe/Berlin:20250630T220000
DTSTAMP:20260421T085939
CREATED:20241101T001522Z
LAST-MODIFIED:20250207T085236Z
UID:10000088-1751313600-1751320800@kammerchor-hu-berlin.de
SUMMARY:Probe
DESCRIPTION:
URL:https://kammerchor-hu-berlin.de/event/probe-37/2025-06-30/
LOCATION:Seminargebäude am Hegelplatz\, Dorotheenstr. 24\, Berlin\, 10117\, Deutschland
CATEGORIES:Probe,Wöchentlich
END:VEVENT
END:VCALENDAR