BEGIN:VCALENDAR
VERSION:2.0
PRODID:-//Kammerchor der Humboldt-Universität zu Berlin - ECPv6.15.18//NONSGML v1.0//EN
CALSCALE:GREGORIAN
METHOD:PUBLISH
X-ORIGINAL-URL:https://kammerchor-hu-berlin.de
X-WR-CALDESC:Veranstaltungen für Kammerchor der Humboldt-Universität zu Berlin
REFRESH-INTERVAL;VALUE=DURATION:PT1H
X-Robots-Tag:noindex
X-PUBLISHED-TTL:PT1H
BEGIN:VTIMEZONE
TZID:Europe/Berlin
BEGIN:DAYLIGHT
TZOFFSETFROM:+0100
TZOFFSETTO:+0200
TZNAME:CEST
DTSTART:20240331T010000
END:DAYLIGHT
BEGIN:STANDARD
TZOFFSETFROM:+0200
TZOFFSETTO:+0100
TZNAME:CET
DTSTART:20241027T010000
END:STANDARD
BEGIN:DAYLIGHT
TZOFFSETFROM:+0100
TZOFFSETTO:+0200
TZNAME:CEST
DTSTART:20250330T010000
END:DAYLIGHT
BEGIN:STANDARD
TZOFFSETFROM:+0200
TZOFFSETTO:+0100
TZNAME:CET
DTSTART:20251026T010000
END:STANDARD
BEGIN:DAYLIGHT
TZOFFSETFROM:+0100
TZOFFSETTO:+0200
TZNAME:CEST
DTSTART:20260329T010000
END:DAYLIGHT
BEGIN:STANDARD
TZOFFSETFROM:+0200
TZOFFSETTO:+0100
TZNAME:CET
DTSTART:20261025T010000
END:STANDARD
END:VTIMEZONE
BEGIN:VEVENT
DTSTART;TZID=Europe/Berlin:20250929T193000
DTEND;TZID=Europe/Berlin:20250929T220000
DTSTAMP:20260421T030055
CREATED:20250605T125816Z
LAST-MODIFIED:20260329T174131Z
UID:10000246-1759174200-1759183200@kammerchor-hu-berlin.de
SUMMARY:Probe
DESCRIPTION:
URL:https://kammerchor-hu-berlin.de/event/probe-39/2025-09-29/
LOCATION:Seminargebäude am Hegelplatz\, Dorotheenstr. 24\, Berlin\, 10117\, Deutschland
CATEGORIES:Probe,Wöchentlich
END:VEVENT
END:VCALENDAR