BEGIN:VCALENDAR
VERSION:2.0
PRODID:-//Kammerchor der Humboldt-Universität zu Berlin - ECPv6.15.18//NONSGML v1.0//EN
CALSCALE:GREGORIAN
METHOD:PUBLISH
X-WR-CALNAME:Kammerchor der Humboldt-Universität zu Berlin
X-ORIGINAL-URL:https://kammerchor-hu-berlin.de
X-WR-CALDESC:Veranstaltungen für Kammerchor der Humboldt-Universität zu Berlin
REFRESH-INTERVAL;VALUE=DURATION:PT1H
X-Robots-Tag:noindex
X-PUBLISHED-TTL:PT1H
BEGIN:VTIMEZONE
TZID:Europe/Berlin
BEGIN:DAYLIGHT
TZOFFSETFROM:+0100
TZOFFSETTO:+0200
TZNAME:CEST
DTSTART:20250330T010000
END:DAYLIGHT
BEGIN:STANDARD
TZOFFSETFROM:+0200
TZOFFSETTO:+0100
TZNAME:CET
DTSTART:20251026T010000
END:STANDARD
BEGIN:DAYLIGHT
TZOFFSETFROM:+0100
TZOFFSETTO:+0200
TZNAME:CEST
DTSTART:20260329T010000
END:DAYLIGHT
BEGIN:STANDARD
TZOFFSETFROM:+0200
TZOFFSETTO:+0100
TZNAME:CET
DTSTART:20261025T010000
END:STANDARD
BEGIN:DAYLIGHT
TZOFFSETFROM:+0100
TZOFFSETTO:+0200
TZNAME:CEST
DTSTART:20270328T010000
END:DAYLIGHT
BEGIN:STANDARD
TZOFFSETFROM:+0200
TZOFFSETTO:+0100
TZNAME:CET
DTSTART:20271031T010000
END:STANDARD
END:VTIMEZONE
BEGIN:VEVENT
DTSTART;TZID=Europe/Berlin:20260112T193000
DTEND;TZID=Europe/Berlin:20260112T220000
DTSTAMP:20260420T204516
CREATED:20250605T125816Z
LAST-MODIFIED:20260329T174131Z
UID:10000258-1768246200-1768255200@kammerchor-hu-berlin.de
SUMMARY:Probe
DESCRIPTION:
URL:https://kammerchor-hu-berlin.de/event/probe-39/2026-01-12/
LOCATION:Seminargebäude am Hegelplatz\, Dorotheenstr. 24\, Berlin\, 10117\, Deutschland
CATEGORIES:Probe,Wöchentlich
END:VEVENT
BEGIN:VEVENT
DTSTART;TZID=Europe/Berlin:20260119T193000
DTEND;TZID=Europe/Berlin:20260119T220000
DTSTAMP:20260420T204516
CREATED:20250605T125816Z
LAST-MODIFIED:20260329T174131Z
UID:10000259-1768851000-1768860000@kammerchor-hu-berlin.de
SUMMARY:Probe
DESCRIPTION:
URL:https://kammerchor-hu-berlin.de/event/probe-39/2026-01-19/
LOCATION:Seminargebäude am Hegelplatz\, Dorotheenstr. 24\, Berlin\, 10117\, Deutschland
CATEGORIES:Probe,Wöchentlich
END:VEVENT
BEGIN:VEVENT
DTSTART;TZID=Europe/Berlin:20260126T193000
DTEND;TZID=Europe/Berlin:20260126T220000
DTSTAMP:20260420T204516
CREATED:20250605T125816Z
LAST-MODIFIED:20260329T174131Z
UID:10000260-1769455800-1769464800@kammerchor-hu-berlin.de
SUMMARY:Probe
DESCRIPTION:
URL:https://kammerchor-hu-berlin.de/event/probe-39/2026-01-26/
LOCATION:Seminargebäude am Hegelplatz\, Dorotheenstr. 24\, Berlin\, 10117\, Deutschland
CATEGORIES:Probe,Wöchentlich
END:VEVENT
END:VCALENDAR