BEGIN:VCALENDAR
VERSION:2.0
PRODID:-//Kammerchor der Humboldt-Universität zu Berlin - ECPv6.15.18//NONSGML v1.0//EN
CALSCALE:GREGORIAN
METHOD:PUBLISH
X-WR-CALNAME:Kammerchor der Humboldt-Universität zu Berlin
X-ORIGINAL-URL:https://kammerchor-hu-berlin.de
X-WR-CALDESC:Veranstaltungen für Kammerchor der Humboldt-Universität zu Berlin
REFRESH-INTERVAL;VALUE=DURATION:PT1H
X-Robots-Tag:noindex
X-PUBLISHED-TTL:PT1H
BEGIN:VTIMEZONE
TZID:Europe/Berlin
BEGIN:DAYLIGHT
TZOFFSETFROM:+0100
TZOFFSETTO:+0200
TZNAME:CEST
DTSTART:20220327T010000
END:DAYLIGHT
BEGIN:STANDARD
TZOFFSETFROM:+0200
TZOFFSETTO:+0100
TZNAME:CET
DTSTART:20221030T010000
END:STANDARD
BEGIN:DAYLIGHT
TZOFFSETFROM:+0100
TZOFFSETTO:+0200
TZNAME:CEST
DTSTART:20230326T010000
END:DAYLIGHT
BEGIN:STANDARD
TZOFFSETFROM:+0200
TZOFFSETTO:+0100
TZNAME:CET
DTSTART:20231029T010000
END:STANDARD
BEGIN:DAYLIGHT
TZOFFSETFROM:+0100
TZOFFSETTO:+0200
TZNAME:CEST
DTSTART:20240331T010000
END:DAYLIGHT
BEGIN:STANDARD
TZOFFSETFROM:+0200
TZOFFSETTO:+0100
TZNAME:CET
DTSTART:20241027T010000
END:STANDARD
BEGIN:DAYLIGHT
TZOFFSETFROM:+0100
TZOFFSETTO:+0200
TZNAME:CEST
DTSTART:20250330T010000
END:DAYLIGHT
BEGIN:STANDARD
TZOFFSETFROM:+0200
TZOFFSETTO:+0100
TZNAME:CET
DTSTART:20251026T010000
END:STANDARD
END:VTIMEZONE
BEGIN:VEVENT
DTSTART;TZID=Europe/Berlin:20240521T200000
DTEND;TZID=Europe/Berlin:20240521T220000
DTSTAMP:20260421T065352
CREATED:20240123T142621Z
LAST-MODIFIED:20240123T142621Z
UID:10000034-1716321600-1716328800@kammerchor-hu-berlin.de
SUMMARY:Probe
DESCRIPTION:
URL:https://kammerchor-hu-berlin.de/event/probe-29/
LOCATION:Seminargebäude am Hegelplatz\, Dorotheenstr. 24\, Berlin\, 10117\, Deutschland
CATEGORIES:Probe,Wöchentlich
END:VEVENT
BEGIN:VEVENT
DTSTART;TZID=Europe/Berlin:20240513T200000
DTEND;TZID=Europe/Berlin:20240513T220000
DTSTAMP:20260421T065352
CREATED:20240123T142520Z
LAST-MODIFIED:20240123T142520Z
UID:10000033-1715630400-1715637600@kammerchor-hu-berlin.de
SUMMARY:Probe
DESCRIPTION:
URL:https://kammerchor-hu-berlin.de/event/probe-28/
LOCATION:Seminargebäude am Hegelplatz\, Dorotheenstr. 24\, Berlin\, 10117\, Deutschland
CATEGORIES:Probe,Wöchentlich
END:VEVENT
BEGIN:VEVENT
DTSTART;TZID=Europe/Berlin:20240506T200000
DTEND;TZID=Europe/Berlin:20240506T220000
DTSTAMP:20260421T065352
CREATED:20240123T142432Z
LAST-MODIFIED:20240123T142432Z
UID:10000032-1715025600-1715032800@kammerchor-hu-berlin.de
SUMMARY:Probe
DESCRIPTION:
URL:https://kammerchor-hu-berlin.de/event/probe-27/
LOCATION:Seminargebäude am Hegelplatz\, Dorotheenstr. 24\, Berlin\, 10117\, Deutschland
CATEGORIES:Probe,Wöchentlich
END:VEVENT
BEGIN:VEVENT
DTSTART;TZID=Europe/Berlin:20240429T200000
DTEND;TZID=Europe/Berlin:20240429T220000
DTSTAMP:20260421T065352
CREATED:20240123T142403Z
LAST-MODIFIED:20240123T142403Z
UID:10000031-1714420800-1714428000@kammerchor-hu-berlin.de
SUMMARY:Probe
DESCRIPTION:
URL:https://kammerchor-hu-berlin.de/event/probe-26/
LOCATION:Seminargebäude am Hegelplatz\, Dorotheenstr. 24\, Berlin\, 10117\, Deutschland
CATEGORIES:Probe,Wöchentlich
END:VEVENT
BEGIN:VEVENT
DTSTART;TZID=Europe/Berlin:20240422T200000
DTEND;TZID=Europe/Berlin:20240422T220000
DTSTAMP:20260421T065352
CREATED:20240123T142321Z
LAST-MODIFIED:20240123T142321Z
UID:10000030-1713816000-1713823200@kammerchor-hu-berlin.de
SUMMARY:Probe
DESCRIPTION:
URL:https://kammerchor-hu-berlin.de/event/probe-25/
LOCATION:Seminargebäude am Hegelplatz\, Dorotheenstr. 24\, Berlin\, 10117\, Deutschland
CATEGORIES:Probe,Wöchentlich
END:VEVENT
BEGIN:VEVENT
DTSTART;TZID=Europe/Berlin:20240415T200000
DTEND;TZID=Europe/Berlin:20240415T220000
DTSTAMP:20260421T065352
CREATED:20240123T142229Z
LAST-MODIFIED:20240123T142229Z
UID:10000029-1713211200-1713218400@kammerchor-hu-berlin.de
SUMMARY:Probe
DESCRIPTION:
URL:https://kammerchor-hu-berlin.de/event/probe-24/
LOCATION:Seminargebäude am Hegelplatz\, Dorotheenstr. 24\, Berlin\, 10117\, Deutschland
CATEGORIES:Probe,Wöchentlich
END:VEVENT
BEGIN:VEVENT
DTSTART;TZID=Europe/Berlin:20240408T200000
DTEND;TZID=Europe/Berlin:20240408T220000
DTSTAMP:20260421T065352
CREATED:20240123T142143Z
LAST-MODIFIED:20240123T142143Z
UID:10000028-1712606400-1712613600@kammerchor-hu-berlin.de
SUMMARY:Probe
DESCRIPTION:
URL:https://kammerchor-hu-berlin.de/event/probe-23/
LOCATION:Seminargebäude am Hegelplatz\, Dorotheenstr. 24\, Berlin\, 10117\, Deutschland
CATEGORIES:Probe,Wöchentlich
END:VEVENT
BEGIN:VEVENT
DTSTART;TZID=Europe/Berlin:20240402T200000
DTEND;TZID=Europe/Berlin:20240402T220000
DTSTAMP:20260421T065352
CREATED:20240123T142103Z
LAST-MODIFIED:20240123T142103Z
UID:10000027-1712088000-1712095200@kammerchor-hu-berlin.de
SUMMARY:Probe
DESCRIPTION:
URL:https://kammerchor-hu-berlin.de/event/probe-22/
LOCATION:Seminargebäude am Hegelplatz\, Dorotheenstr. 24\, Berlin\, 10117\, Deutschland
CATEGORIES:Probe,Wöchentlich
END:VEVENT
BEGIN:VEVENT
DTSTART;TZID=Europe/Berlin:20240325T200000
DTEND;TZID=Europe/Berlin:20240325T220000
DTSTAMP:20260421T065352
CREATED:20240123T141930Z
LAST-MODIFIED:20240123T141930Z
UID:10000026-1711396800-1711404000@kammerchor-hu-berlin.de
SUMMARY:Probe
DESCRIPTION:
URL:https://kammerchor-hu-berlin.de/event/probe-21/
LOCATION:Seminargebäude am Hegelplatz\, Dorotheenstr. 24\, Berlin\, 10117\, Deutschland
CATEGORIES:Probe,Wöchentlich
END:VEVENT
BEGIN:VEVENT
DTSTART;TZID=Europe/Berlin:20240318T200000
DTEND;TZID=Europe/Berlin:20240318T220000
DTSTAMP:20260421T065352
CREATED:20240123T141859Z
LAST-MODIFIED:20240123T141859Z
UID:10000025-1710792000-1710799200@kammerchor-hu-berlin.de
SUMMARY:Probe
DESCRIPTION:
URL:https://kammerchor-hu-berlin.de/event/probe-20/
LOCATION:Seminargebäude am Hegelplatz\, Dorotheenstr. 24\, Berlin\, 10117\, Deutschland
CATEGORIES:Probe,Wöchentlich
END:VEVENT
BEGIN:VEVENT
DTSTART;TZID=Europe/Berlin:20240311T200000
DTEND;TZID=Europe/Berlin:20240311T220000
DTSTAMP:20260421T065352
CREATED:20240123T141810Z
LAST-MODIFIED:20240123T141810Z
UID:10000024-1710187200-1710194400@kammerchor-hu-berlin.de
SUMMARY:Probe
DESCRIPTION:
URL:https://kammerchor-hu-berlin.de/event/probe-19/
LOCATION:Seminargebäude am Hegelplatz\, Dorotheenstr. 24\, Berlin\, 10117\, Deutschland
CATEGORIES:Probe,Wöchentlich
END:VEVENT
BEGIN:VEVENT
DTSTART;TZID=Europe/Berlin:20240304T200000
DTEND;TZID=Europe/Berlin:20240304T220000
DTSTAMP:20260421T065352
CREATED:20240123T141746Z
LAST-MODIFIED:20240123T141746Z
UID:10000023-1709582400-1709589600@kammerchor-hu-berlin.de
SUMMARY:Probe
DESCRIPTION:
URL:https://kammerchor-hu-berlin.de/event/probe-18/
LOCATION:Seminargebäude am Hegelplatz\, Dorotheenstr. 24\, Berlin\, 10117\, Deutschland
CATEGORIES:Probe,Wöchentlich
END:VEVENT
BEGIN:VEVENT
DTSTART;TZID=Europe/Berlin:20240226T200000
DTEND;TZID=Europe/Berlin:20240226T220000
DTSTAMP:20260421T065352
CREATED:20240123T141613Z
LAST-MODIFIED:20240123T141613Z
UID:10000022-1708977600-1708984800@kammerchor-hu-berlin.de
SUMMARY:Probe
DESCRIPTION:
URL:https://kammerchor-hu-berlin.de/event/probe-17/
LOCATION:Seminargebäude am Hegelplatz\, Dorotheenstr. 24\, Berlin\, 10117\, Deutschland
CATEGORIES:Probe,Wöchentlich
END:VEVENT
BEGIN:VEVENT
DTSTART;TZID=Europe/Berlin:20240219T200000
DTEND;TZID=Europe/Berlin:20240219T220000
DTSTAMP:20260421T065352
CREATED:20240123T140641Z
LAST-MODIFIED:20240123T140641Z
UID:10000021-1708372800-1708380000@kammerchor-hu-berlin.de
SUMMARY:Probe
DESCRIPTION:
URL:https://kammerchor-hu-berlin.de/event/probe-16/
LOCATION:Seminargebäude am Hegelplatz\, Dorotheenstr. 24\, Berlin\, 10117\, Deutschland
CATEGORIES:Probe,Wöchentlich
END:VEVENT
BEGIN:VEVENT
DTSTART;TZID=Europe/Berlin:20240212T200000
DTEND;TZID=Europe/Berlin:20240212T220000
DTSTAMP:20260421T065352
CREATED:20240123T140550Z
LAST-MODIFIED:20240123T140550Z
UID:10000020-1707768000-1707775200@kammerchor-hu-berlin.de
SUMMARY:Probe
DESCRIPTION:
URL:https://kammerchor-hu-berlin.de/event/probe-15/
LOCATION:Seminargebäude am Hegelplatz\, Dorotheenstr. 24\, Berlin\, 10117\, Deutschland
CATEGORIES:Probe,Wöchentlich
END:VEVENT
BEGIN:VEVENT
DTSTART;TZID=Europe/Berlin:20240205T200000
DTEND;TZID=Europe/Berlin:20240205T220000
DTSTAMP:20260421T065352
CREATED:20240123T140514Z
LAST-MODIFIED:20240123T140514Z
UID:10000019-1707163200-1707170400@kammerchor-hu-berlin.de
SUMMARY:Probe
DESCRIPTION:
URL:https://kammerchor-hu-berlin.de/event/probe-14/
LOCATION:Seminargebäude am Hegelplatz\, Dorotheenstr. 24\, Berlin\, 10117\, Deutschland
CATEGORIES:Probe,Wöchentlich
END:VEVENT
BEGIN:VEVENT
DTSTART;TZID=Europe/Berlin:20240129T200000
DTEND;TZID=Europe/Berlin:20240129T220000
DTSTAMP:20260421T065352
CREATED:20240123T140433Z
LAST-MODIFIED:20240123T140433Z
UID:10000018-1706558400-1706565600@kammerchor-hu-berlin.de
SUMMARY:Probe
DESCRIPTION:
URL:https://kammerchor-hu-berlin.de/event/probe-13/
LOCATION:Seminargebäude am Hegelplatz\, Dorotheenstr. 24\, Berlin\, 10117\, Deutschland
CATEGORIES:Probe,Wöchentlich
END:VEVENT
BEGIN:VEVENT
DTSTART;TZID=Europe/Berlin:20240124T200000
DTEND;TZID=Europe/Berlin:20240124T210000
DTSTAMP:20260421T065352
CREATED:20240123T143756Z
LAST-MODIFIED:20240123T143756Z
UID:10000044-1706126400-1706130000@kammerchor-hu-berlin.de
SUMMARY:Kammermusikabend der Musik an der HU Berlin
DESCRIPTION:
URL:https://kammerchor-hu-berlin.de/event/kammermusikabend-der-musik-an-der-hu-berlin-2/
LOCATION:Seminargebäude am Hegelplatz\, Dorotheenstr. 24\, Berlin\, 10117\, Deutschland
CATEGORIES:Auftritt
END:VEVENT
BEGIN:VEVENT
DTSTART;TZID=Europe/Berlin:20240124T200000
DTEND;TZID=Europe/Berlin:20240124T210000
DTSTAMP:20260421T065352
CREATED:20240123T143323Z
LAST-MODIFIED:20240123T143323Z
UID:10000042-1706126400-1706130000@kammerchor-hu-berlin.de
SUMMARY:Kammermusikabend der Musik an der HU Berlin
DESCRIPTION:
URL:https://kammerchor-hu-berlin.de/event/kammermusikabend-der-musik-an-der-hu-berlin/
LOCATION:Seminargebäude am Hegelplatz\, Dorotheenstr. 24\, Berlin\, 10117\, Deutschland
CATEGORIES:Auftritt
END:VEVENT
BEGIN:VEVENT
DTSTART;TZID=Europe/Berlin:20240122T200000
DTEND;TZID=Europe/Berlin:20240122T220000
DTSTAMP:20260421T065352
CREATED:20240123T140352Z
LAST-MODIFIED:20240123T140352Z
UID:10000017-1705953600-1705960800@kammerchor-hu-berlin.de
SUMMARY:Probe
DESCRIPTION:
URL:https://kammerchor-hu-berlin.de/event/probe-12/
LOCATION:Seminargebäude am Hegelplatz\, Dorotheenstr. 24\, Berlin\, 10117\, Deutschland
CATEGORIES:Probe,Wöchentlich
END:VEVENT
BEGIN:VEVENT
DTSTART;TZID=Europe/Berlin:20240115T200000
DTEND;TZID=Europe/Berlin:20240115T220000
DTSTAMP:20260421T065352
CREATED:20240123T140345Z
LAST-MODIFIED:20240123T140345Z
UID:10000016-1705348800-1705356000@kammerchor-hu-berlin.de
SUMMARY:Probe
DESCRIPTION:
URL:https://kammerchor-hu-berlin.de/event/probe-11/
LOCATION:Seminargebäude am Hegelplatz\, Dorotheenstr. 24\, Berlin\, 10117\, Deutschland
CATEGORIES:Probe,Wöchentlich
END:VEVENT
BEGIN:VEVENT
DTSTART;TZID=Europe/Berlin:20231211T200000
DTEND;TZID=Europe/Berlin:20231211T220000
DTSTAMP:20260421T065352
CREATED:20231015T101232Z
LAST-MODIFIED:20231015T101232Z
UID:10000010-1702324800-1702332000@kammerchor-hu-berlin.de
SUMMARY:Probe
DESCRIPTION:
URL:https://kammerchor-hu-berlin.de/event/probe-9/
LOCATION:Seminargebäude am Hegelplatz\, Dorotheenstr. 24\, Berlin\, 10117\, Deutschland
CATEGORIES:Probe,Wöchentlich
END:VEVENT
BEGIN:VEVENT
DTSTART;TZID=Europe/Berlin:20231204T200000
DTEND;TZID=Europe/Berlin:20231204T220000
DTSTAMP:20260421T065352
CREATED:20231015T101159Z
LAST-MODIFIED:20231015T101159Z
UID:10000009-1701720000-1701727200@kammerchor-hu-berlin.de
SUMMARY:Probe
DESCRIPTION:
URL:https://kammerchor-hu-berlin.de/event/probe-8/
LOCATION:Seminargebäude am Hegelplatz\, Dorotheenstr. 24\, Berlin\, 10117\, Deutschland
CATEGORIES:Probe,Wöchentlich
END:VEVENT
BEGIN:VEVENT
DTSTART;TZID=Europe/Berlin:20231127T200000
DTEND;TZID=Europe/Berlin:20231127T220000
DTSTAMP:20260421T065352
CREATED:20231015T101045Z
LAST-MODIFIED:20231015T101045Z
UID:10000008-1701115200-1701122400@kammerchor-hu-berlin.de
SUMMARY:Probe
DESCRIPTION:
URL:https://kammerchor-hu-berlin.de/event/probe-7/
LOCATION:Seminargebäude am Hegelplatz\, Dorotheenstr. 24\, Berlin\, 10117\, Deutschland
CATEGORIES:Probe,Wöchentlich
END:VEVENT
BEGIN:VEVENT
DTSTART;TZID=Europe/Berlin:20231120T200000
DTEND;TZID=Europe/Berlin:20231120T220000
DTSTAMP:20260421T065352
CREATED:20231015T101015Z
LAST-MODIFIED:20231015T101015Z
UID:10000007-1700510400-1700517600@kammerchor-hu-berlin.de
SUMMARY:Probe
DESCRIPTION:
URL:https://kammerchor-hu-berlin.de/event/probe-6/
LOCATION:Seminargebäude am Hegelplatz\, Dorotheenstr. 24\, Berlin\, 10117\, Deutschland
CATEGORIES:Probe,Wöchentlich
END:VEVENT
BEGIN:VEVENT
DTSTART;TZID=Europe/Berlin:20231113T200000
DTEND;TZID=Europe/Berlin:20231113T220000
DTSTAMP:20260421T065352
CREATED:20231015T100910Z
LAST-MODIFIED:20231015T100910Z
UID:10000006-1699905600-1699912800@kammerchor-hu-berlin.de
SUMMARY:Probe
DESCRIPTION:
URL:https://kammerchor-hu-berlin.de/event/probe-5/
LOCATION:Seminargebäude am Hegelplatz\, Dorotheenstr. 24\, Berlin\, 10117\, Deutschland
CATEGORIES:Probe,Wöchentlich
END:VEVENT
BEGIN:VEVENT
DTSTART;TZID=Europe/Berlin:20231111T110000
DTEND;TZID=Europe/Berlin:20231111T170000
DTSTAMP:20260421T065352
CREATED:20231023T205912Z
LAST-MODIFIED:20231023T205912Z
UID:10000015-1699700400-1699722000@kammerchor-hu-berlin.de
SUMMARY:Probe
DESCRIPTION:
URL:https://kammerchor-hu-berlin.de/event/probe-10/
LOCATION:Seminargebäude am Hegelplatz\, Dorotheenstr. 24\, Berlin\, 10117\, Deutschland
CATEGORIES:Probe,Wochenende
END:VEVENT
BEGIN:VEVENT
DTSTART;TZID=Europe/Berlin:20231106T200000
DTEND;TZID=Europe/Berlin:20231106T220000
DTSTAMP:20260421T065352
CREATED:20231015T100841Z
LAST-MODIFIED:20231015T100841Z
UID:10000005-1699300800-1699308000@kammerchor-hu-berlin.de
SUMMARY:Probe
DESCRIPTION:
URL:https://kammerchor-hu-berlin.de/event/probe-4/
LOCATION:Seminargebäude am Hegelplatz\, Dorotheenstr. 24\, Berlin\, 10117\, Deutschland
CATEGORIES:Probe,Wöchentlich
END:VEVENT
BEGIN:VEVENT
DTSTART;TZID=Europe/Berlin:20231030T200000
DTEND;TZID=Europe/Berlin:20231030T220000
DTSTAMP:20260421T065352
CREATED:20231015T100501Z
LAST-MODIFIED:20231015T100501Z
UID:10000004-1698696000-1698703200@kammerchor-hu-berlin.de
SUMMARY:Probe
DESCRIPTION:
URL:https://kammerchor-hu-berlin.de/event/probe-3/
LOCATION:Seminargebäude am Hegelplatz\, Dorotheenstr. 24\, Berlin\, 10117\, Deutschland
CATEGORIES:Probe,Wöchentlich
END:VEVENT
BEGIN:VEVENT
DTSTART;TZID=Europe/Berlin:20231023T200000
DTEND;TZID=Europe/Berlin:20231023T220000
DTSTAMP:20260421T065352
CREATED:20231015T100302Z
LAST-MODIFIED:20231015T100426Z
UID:10000003-1698091200-1698098400@kammerchor-hu-berlin.de
SUMMARY:Probe
DESCRIPTION:
URL:https://kammerchor-hu-berlin.de/event/probe-2/
LOCATION:Seminargebäude am Hegelplatz\, Dorotheenstr. 24\, Berlin\, 10117\, Deutschland
CATEGORIES:Probe,Wöchentlich
END:VEVENT
END:VCALENDAR