BEGIN:VCALENDAR
VERSION:2.0
PRODID:-//Kammerchor der Humboldt-Universität zu Berlin - ECPv6.15.18//NONSGML v1.0//EN
CALSCALE:GREGORIAN
METHOD:PUBLISH
X-ORIGINAL-URL:https://kammerchor-hu-berlin.de
X-WR-CALDESC:Veranstaltungen für Kammerchor der Humboldt-Universität zu Berlin
REFRESH-INTERVAL;VALUE=DURATION:PT1H
X-Robots-Tag:noindex
X-PUBLISHED-TTL:PT1H
BEGIN:VTIMEZONE
TZID:Europe/Berlin
BEGIN:DAYLIGHT
TZOFFSETFROM:+0100
TZOFFSETTO:+0200
TZNAME:CEST
DTSTART:20220327T010000
END:DAYLIGHT
BEGIN:STANDARD
TZOFFSETFROM:+0200
TZOFFSETTO:+0100
TZNAME:CET
DTSTART:20221030T010000
END:STANDARD
BEGIN:DAYLIGHT
TZOFFSETFROM:+0100
TZOFFSETTO:+0200
TZNAME:CEST
DTSTART:20230326T010000
END:DAYLIGHT
BEGIN:STANDARD
TZOFFSETFROM:+0200
TZOFFSETTO:+0100
TZNAME:CET
DTSTART:20231029T010000
END:STANDARD
BEGIN:DAYLIGHT
TZOFFSETFROM:+0100
TZOFFSETTO:+0200
TZNAME:CEST
DTSTART:20240331T010000
END:DAYLIGHT
BEGIN:STANDARD
TZOFFSETFROM:+0200
TZOFFSETTO:+0100
TZNAME:CET
DTSTART:20241027T010000
END:STANDARD
BEGIN:DAYLIGHT
TZOFFSETFROM:+0100
TZOFFSETTO:+0200
TZNAME:CEST
DTSTART:20250330T010000
END:DAYLIGHT
BEGIN:STANDARD
TZOFFSETFROM:+0200
TZOFFSETTO:+0100
TZNAME:CET
DTSTART:20251026T010000
END:STANDARD
BEGIN:DAYLIGHT
TZOFFSETFROM:+0100
TZOFFSETTO:+0200
TZNAME:CEST
DTSTART:20260329T010000
END:DAYLIGHT
BEGIN:STANDARD
TZOFFSETFROM:+0200
TZOFFSETTO:+0100
TZNAME:CET
DTSTART:20261025T010000
END:STANDARD
END:VTIMEZONE
BEGIN:VEVENT
DTSTART;TZID=Europe/Berlin:20251214T193000
DTEND;TZID=Europe/Berlin:20251214T201500
DTSTAMP:20260421T013106
CREATED:20250605T130742Z
LAST-MODIFIED:20251122T143149Z
UID:10000237-1765740600-1765743300@kammerchor-hu-berlin.de
SUMMARY:Konzert: Der Morgenstern ist aufgedrungen
DESCRIPTION:Musik zum Advent und zur Weihnacht\nKonzertprogramm mit Musik von Michael Praetorius\, JS Bach\, Felix Mendelssohn Bartholdy\, John Rutter\, Jonathan Lane u.a.\nDauer: ca. 45 Minuten\nEintritt frei (Spende erbeten) \nDas Konzert findet im Anschluss an den hORA-Gottesdienst zum dritten Advent statt. Der Kammerchor gestaltet diese Abendvesper musikalisch\, und die Konzertbesucher sind herzlich eingeladen\, daran teilzunehmen. Beginn 18:00 Uhr.
URL:https://kammerchor-hu-berlin.de/event/konzerte-2/
LOCATION:St. Matthäus-Kirche\, Matthäikirchplatz 1\, Berlin\, 10785\, Deutschland
CATEGORIES:Auftritt,Konzert
ATTACH;FMTTYPE=image/png:https://kammerchor-hu-berlin.de/wp-content/uploads/2025/06/Stern-web.png
END:VEVENT
BEGIN:VEVENT
DTSTART;TZID=Europe/Berlin:20251214T180000
DTEND;TZID=Europe/Berlin:20251214T190000
DTSTAMP:20260421T013106
CREATED:20250822T125847Z
LAST-MODIFIED:20251122T143516Z
UID:10000283-1765735200-1765738800@kammerchor-hu-berlin.de
SUMMARY:hORA Gottesdienst zum Dritten Advent
DESCRIPTION:Musikalische Begleitung der Abendvesper in der St. Matthäus-Kirche. Im Anschluss präsentiert der Kammerchor ein Konzert mit Vokalmusik zur Advents- und Weihnachtszeit.
URL:https://kammerchor-hu-berlin.de/event/hora-gottesdienst/
LOCATION:St. Matthäus-Kirche\, Matthäikirchplatz 1\, Berlin\, 10785\, Deutschland
CATEGORIES:Auftritt,Gottesdienst
ATTACH;FMTTYPE=image/jpeg:https://kammerchor-hu-berlin.de/wp-content/uploads/2023/10/st-matthaus-kirche-thumb.jpg
END:VEVENT
BEGIN:VEVENT
DTSTART;TZID=Europe/Berlin:20251214T161500
DTEND;TZID=Europe/Berlin:20251214T174500
DTSTAMP:20260421T013106
CREATED:20250814T192341Z
LAST-MODIFIED:20250822T130318Z
UID:10000279-1765728900-1765734300@kammerchor-hu-berlin.de
SUMMARY:Probe vor Auftritt im hORA
DESCRIPTION:
URL:https://kammerchor-hu-berlin.de/event/probe-vor-konzert/
LOCATION:St. Matthäus-Kirche\, Matthäikirchplatz 1\, Berlin\, 10785\, Deutschland
CATEGORIES:Probe
END:VEVENT
BEGIN:VEVENT
DTSTART;TZID=Europe/Berlin:20250705T193000
DTEND;TZID=Europe/Berlin:20250705T210000
DTSTAMP:20260421T013106
CREATED:20250207T092259Z
LAST-MODIFIED:20250614T194909Z
UID:10000093-1751743800-1751749200@kammerchor-hu-berlin.de
SUMMARY:Konzert »Here«
DESCRIPTION:Konzert Here\nWer bist Du? Wer sind wir? Was verbindet uns? \nIn den Stücken von Joshua Rist\, Ola Gjeilo\, Ivo Antognini\, Sven-Eric Johanson\, Johannes Brahms und Songs von Emeli Sandé und Billy Joel werden diese Frage poetisch gestellt\, auch an sich selbst. Der Kammerchor der Humboldt-Universität zu Berlin\, unter der Leitung von Rainer Ahrens\, singt ein Programm\, in dem sich zudem Alte und Neue Musik zwanglos zusammenfügen.
URL:https://kammerchor-hu-berlin.de/event/konzert-4/
LOCATION:St. Matthäus-Kirche\, Matthäikirchplatz 1\, Berlin\, 10785\, Deutschland
CATEGORIES:Auftritt,Konzert
ATTACH;FMTTYPE=image/webp:https://kammerchor-hu-berlin.de/wp-content/uploads/2025/02/Plakat-Here-web.webp
END:VEVENT
BEGIN:VEVENT
DTSTART;TZID=Europe/Berlin:20241214T190000
DTEND;TZID=Europe/Berlin:20241214T203000
DTSTAMP:20260421T013106
CREATED:20241031T224907Z
LAST-MODIFIED:20241115T154844Z
UID:10000048-1734202800-1734208200@kammerchor-hu-berlin.de
SUMMARY:Wie schön leuchtet der Morgenstern
DESCRIPTION:Konzert\nMusik zum Advent und zur Weihnachtszeit \nEintritt 15 EUR\, SchülerInnen und StudentenInnen 10 EUR
URL:https://kammerchor-hu-berlin.de/event/wie-schoen-leuchtet-der-morgenstern/
LOCATION:St. Matthäus-Kirche\, Matthäikirchplatz 1\, Berlin\, 10785\, Deutschland
CATEGORIES:Auftritt,Konzert
ATTACH;FMTTYPE=image/png:https://kammerchor-hu-berlin.de/wp-content/uploads/2024/10/Plakat-Stern.png
END:VEVENT
BEGIN:VEVENT
DTSTART;TZID=Europe/Berlin:20241208T180000
DTEND;TZID=Europe/Berlin:20241208T190000
DTSTAMP:20260421T013106
CREATED:20241031T222256Z
LAST-MODIFIED:20241115T155824Z
UID:10000046-1733680800-1733684400@kammerchor-hu-berlin.de
SUMMARY:hORA Musikalische Vesper
DESCRIPTION:
URL:https://kammerchor-hu-berlin.de/event/hora-musikalische-vesper/
LOCATION:St. Matthäus-Kirche\, Matthäikirchplatz 1\, Berlin\, 10785\, Deutschland
CATEGORIES:Auftritt,Gottesdienst
ATTACH;FMTTYPE=image/jpeg:https://kammerchor-hu-berlin.de/wp-content/uploads/2023/10/st-matthaus-kirche-thumb.jpg
END:VEVENT
BEGIN:VEVENT
DTSTART;TZID=Europe/Berlin:20231215T190000
DTEND;TZID=Europe/Berlin:20231215T203000
DTSTAMP:20260421T013106
CREATED:20231013T221913Z
LAST-MODIFIED:20231015T095419Z
UID:10000001-1702666800-1702672200@kammerchor-hu-berlin.de
SUMMARY:Konzert
DESCRIPTION:Vokalmusik zur Advents- und Weihnachtszeit
URL:https://kammerchor-hu-berlin.de/event/konzert/
LOCATION:St. Matthäus-Kirche\, Matthäikirchplatz 1\, Berlin\, 10785\, Deutschland
CATEGORIES:Auftritt,Konzert
END:VEVENT
BEGIN:VEVENT
DTSTART;TZID=Europe/Berlin:20231210T180000
DTEND;TZID=Europe/Berlin:20231210T190000
DTSTAMP:20260421T013106
CREATED:20231015T101812Z
LAST-MODIFIED:20231015T101812Z
UID:10000012-1702231200-1702234800@kammerchor-hu-berlin.de
SUMMARY:Auftritt im hORA Gottesdienst
DESCRIPTION:
URL:https://kammerchor-hu-berlin.de/event/auftritt-im-hora-gottesdienst/
LOCATION:St. Matthäus-Kirche\, Matthäikirchplatz 1\, Berlin\, 10785\, Deutschland
CATEGORIES:Auftritt,Gottesdienst
END:VEVENT
END:VCALENDAR