BEGIN:VCALENDAR
VERSION:2.0
PRODID:-//Kammerchor der Humboldt-Universität zu Berlin - ECPv6.15.18//NONSGML v1.0//EN
CALSCALE:GREGORIAN
METHOD:PUBLISH
X-ORIGINAL-URL:https://kammerchor-hu-berlin.de
X-WR-CALDESC:Veranstaltungen für Kammerchor der Humboldt-Universität zu Berlin
REFRESH-INTERVAL;VALUE=DURATION:PT1H
X-Robots-Tag:noindex
X-PUBLISHED-TTL:PT1H
BEGIN:VTIMEZONE
TZID:Europe/Berlin
BEGIN:DAYLIGHT
TZOFFSETFROM:+0100
TZOFFSETTO:+0200
TZNAME:CEST
DTSTART:20250330T010000
END:DAYLIGHT
BEGIN:STANDARD
TZOFFSETFROM:+0200
TZOFFSETTO:+0100
TZNAME:CET
DTSTART:20251026T010000
END:STANDARD
BEGIN:DAYLIGHT
TZOFFSETFROM:+0100
TZOFFSETTO:+0200
TZNAME:CEST
DTSTART:20260329T010000
END:DAYLIGHT
BEGIN:STANDARD
TZOFFSETFROM:+0200
TZOFFSETTO:+0100
TZNAME:CET
DTSTART:20261025T010000
END:STANDARD
BEGIN:DAYLIGHT
TZOFFSETFROM:+0100
TZOFFSETTO:+0200
TZNAME:CEST
DTSTART:20270328T010000
END:DAYLIGHT
BEGIN:STANDARD
TZOFFSETFROM:+0200
TZOFFSETTO:+0100
TZNAME:CET
DTSTART:20271031T010000
END:STANDARD
END:VTIMEZONE
BEGIN:VEVENT
DTSTART;TZID=Europe/Berlin:20260607T161500
DTEND;TZID=Europe/Berlin:20260607T174500
DTSTAMP:20260420T235122
CREATED:20260329T173455Z
LAST-MODIFIED:20260329T173455Z
UID:10000289-1780848900-1780854300@kammerchor-hu-berlin.de
SUMMARY:Probe vor Auftritt im hORA
DESCRIPTION:
URL:https://kammerchor-hu-berlin.de/event/probe-vor-auftritt-im-hora/
LOCATION:St. Matthäus-Kirche\, Matthäikirchplatz 1\, Berlin\, 10785\, Deutschland
CATEGORIES:Probe
END:VEVENT
BEGIN:VEVENT
DTSTART;TZID=Europe/Berlin:20260607T180000
DTEND;TZID=Europe/Berlin:20260607T190000
DTSTAMP:20260420T235122
CREATED:20260329T173414Z
LAST-MODIFIED:20260329T173414Z
UID:10000288-1780855200-1780858800@kammerchor-hu-berlin.de
SUMMARY:hORA Gottesdienst
DESCRIPTION:Musikalische Begleitung der Abendvesper in der St. Matthäus-Kirche.
URL:https://kammerchor-hu-berlin.de/event/hora-gottesdienst-2/
LOCATION:St. Matthäus-Kirche\, Matthäikirchplatz 1\, Berlin\, 10785\, Deutschland
CATEGORIES:Auftritt,Gottesdienst
ATTACH;FMTTYPE=image/jpeg:https://kammerchor-hu-berlin.de/wp-content/uploads/2023/10/st-matthaus-kirche-thumb.jpg
END:VEVENT
BEGIN:VEVENT
DTSTART;TZID=Europe/Berlin:20260613T163000
DTEND;TZID=Europe/Berlin:20260613T190000
DTSTAMP:20260420T235122
CREATED:20260329T173738Z
LAST-MODIFIED:20260329T173852Z
UID:10000291-1781368200-1781377200@kammerchor-hu-berlin.de
SUMMARY:Probe vor Konzert
DESCRIPTION:
URL:https://kammerchor-hu-berlin.de/event/probe-vor-konzert-2/
LOCATION:St. Matthäus-Kirche\, Matthäikirchplatz 1\, Berlin\, 10785\, Deutschland
CATEGORIES:Probe
END:VEVENT
BEGIN:VEVENT
DTSTART;TZID=Europe/Berlin:20260613T193000
DTEND;TZID=Europe/Berlin:20260613T210000
DTSTAMP:20260420T235122
CREATED:20260329T173639Z
LAST-MODIFIED:20260329T173639Z
UID:10000290-1781379000-1781384400@kammerchor-hu-berlin.de
SUMMARY:Konzert
DESCRIPTION:Konzert\nDer Kammerchor der Humboldt-Universität zu Berlin\, unter der Leitung von Rainer Ahrens\, singt ein Programm\, in dem sich zudem Alte und Neue Musik zwanglos zusammenfügen.
URL:https://kammerchor-hu-berlin.de/event/konzert-5/
LOCATION:St. Matthäus-Kirche\, Matthäikirchplatz 1\, Berlin\, 10785\, Deutschland
CATEGORIES:Auftritt,Konzert
END:VEVENT
END:VCALENDAR